BEGIN:VCALENDAR
VERSION:2.0
PRODID:-//pretix//pretix.eu//
BEGIN:VEVENT
UID:pretix-socreatory-web-security--praesenz-3877257@pretix.eu
DTSTART;VALUE=DATE:20231211
DTEND;VALUE=DATE:20231214
DESCRIPTION:Tickets: https://pretix.eu/socreatory/web-security--praesenz/38
 77257/\nVeranstalter: socreatory
DTSTAMP:20260420T111941Z
LOCATION:Flemings Express Hotel Frankfurt\, Poststraße 8\, 60329 Frankfurt
SUMMARY:WEBSEC (Frankfurt) - Christoph Iserlohn & Dimitrij Drus - Deutsch -
   3 Tickets verfügbar
END:VEVENT
END:VCALENDAR
