BEGIN:VCALENDAR
VERSION:2.0
PRODID:-//pretix//pretix.eu//
BEGIN:VTIMEZONE
TZID:Europe/Berlin
BEGIN:STANDARD
DTSTART:20001029T040000
RRULE:FREQ=YEARLY;BYDAY=-1SU;BYMONTH=10
TZNAME:CET
TZOFFSETFROM:+0200
TZOFFSETTO:+0100
END:STANDARD
BEGIN:DAYLIGHT
DTSTART:20000326T030000
RRULE:FREQ=YEARLY;BYDAY=-1SU;BYMONTH=3
TZNAME:CEST
TZOFFSETFROM:+0100
TZOFFSETTO:+0200
END:DAYLIGHT
END:VTIMEZONE
BEGIN:VEVENT
UID:pretix-sozialheldinnen-basiswissen-inklusion-4890423@pretix.eu
DTSTART;TZID=Europe/Berlin:20260630T120000
DTEND;TZID=Europe/Berlin:20260630T124500
DESCRIPTION:Tickets: https://pretix.eu/sozialheldinnen/basiswissen-inklusio
 n/4890423/\nVeranstalter: Sozialhelden e.V.
DTSTAMP:20260423T220623Z
SUMMARY:Basiswissen Inklusion und Ableismus
END:VEVENT
BEGIN:VEVENT
UID:pretix-sozialheldinnen-basiswissen-sprache-4898129@pretix.eu
DTSTART;TZID=Europe/Berlin:20260701T120000
DTEND;TZID=Europe/Berlin:20260701T124500
DESCRIPTION:Tickets: https://pretix.eu/sozialheldinnen/basiswissen-sprache/
 4898129/\nVeranstalter: Sozialhelden e.V.
DTSTAMP:20260423T220623Z
SUMMARY:Basiswissen Inklusive Kommunikation und Sprache
END:VEVENT
BEGIN:VEVENT
UID:pretix-sozialheldinnen-basiswissen-veranstaltungen-4898141@pretix.eu
DTSTART;TZID=Europe/Berlin:20260702T120000
DTEND;TZID=Europe/Berlin:20260702T124500
DESCRIPTION:Tickets: https://pretix.eu/sozialheldinnen/basiswissen-veransta
 ltungen/4898141/\nVeranstalter: Sozialhelden e.V.
DTSTAMP:20260423T220623Z
SUMMARY:Basiswissen Barrierefreie Veranstaltungen
END:VEVENT
BEGIN:VEVENT
UID:pretix-sozialheldinnen-basiswissen-inklusion-4890425@pretix.eu
DTSTART;TZID=Europe/Berlin:20260929T120000
DTEND;TZID=Europe/Berlin:20260929T124500
DESCRIPTION:Tickets: https://pretix.eu/sozialheldinnen/basiswissen-inklusio
 n/4890425/\nVeranstalter: Sozialhelden e.V.
DTSTAMP:20260423T220623Z
SUMMARY:Basiswissen Inklusion und Ableismus
END:VEVENT
BEGIN:VEVENT
UID:pretix-sozialheldinnen-basiswissen-sprache-4898130@pretix.eu
DTSTART;TZID=Europe/Berlin:20260930T120000
DTEND;TZID=Europe/Berlin:20260930T124500
DESCRIPTION:Tickets: https://pretix.eu/sozialheldinnen/basiswissen-sprache/
 4898130/\nVeranstalter: Sozialhelden e.V.
DTSTAMP:20260423T220623Z
SUMMARY:Basiswissen Inklusive Kommunikation und Sprache
END:VEVENT
BEGIN:VEVENT
UID:pretix-sozialheldinnen-basiswissen-veranstaltungen-4898144@pretix.eu
DTSTART;TZID=Europe/Berlin:20261001T120000
DTEND;TZID=Europe/Berlin:20261001T124500
DESCRIPTION:Tickets: https://pretix.eu/sozialheldinnen/basiswissen-veransta
 ltungen/4898144/\nVeranstalter: Sozialhelden e.V.
DTSTAMP:20260423T220623Z
SUMMARY:Basiswissen Barrierefreie Veranstaltungen
END:VEVENT
BEGIN:VEVENT
UID:pretix-sozialheldinnen-basiswissen-inklusion-4893713@pretix.eu
DTSTART;TZID=Europe/Berlin:20270119T120000
DTEND;TZID=Europe/Berlin:20270119T124500
DESCRIPTION:Tickets: https://pretix.eu/sozialheldinnen/basiswissen-inklusio
 n/4893713/\nVeranstalter: Sozialhelden e.V.
DTSTAMP:20260423T220623Z
SUMMARY:Basiswissen Inklusion und Ableismus
END:VEVENT
BEGIN:VEVENT
UID:pretix-sozialheldinnen-basiswissen-sprache-4898131@pretix.eu
DTSTART;TZID=Europe/Berlin:20270120T120000
DTEND;TZID=Europe/Berlin:20270120T124500
DESCRIPTION:Tickets: https://pretix.eu/sozialheldinnen/basiswissen-sprache/
 4898131/\nVeranstalter: Sozialhelden e.V.
DTSTAMP:20260423T220623Z
SUMMARY:Basiswissen Inklusive Kommunikation und Sprache
END:VEVENT
BEGIN:VEVENT
UID:pretix-sozialheldinnen-basiswissen-veranstaltungen-4898147@pretix.eu
DTSTART;TZID=Europe/Berlin:20270121T120000
DTEND;TZID=Europe/Berlin:20270121T124500
DESCRIPTION:Tickets: https://pretix.eu/sozialheldinnen/basiswissen-veransta
 ltungen/4898147/\nVeranstalter: Sozialhelden e.V.
DTSTAMP:20260423T220623Z
SUMMARY:Basiswissen Barrierefreie Veranstaltungen
END:VEVENT
END:VCALENDAR
