BEGIN:VCALENDAR
VERSION:2.0
PRODID:-//pretix//pretix.eu//
BEGIN:VTIMEZONE
TZID:Europe/Berlin
BEGIN:STANDARD
DTSTART:20001029T040000
RRULE:FREQ=YEARLY;BYDAY=-1SU;BYMONTH=10
TZNAME:CET
TZOFFSETFROM:+0200
TZOFFSETTO:+0100
END:STANDARD
BEGIN:DAYLIGHT
DTSTART:20000326T030000
RRULE:FREQ=YEARLY;BYDAY=-1SU;BYMONTH=3
TZNAME:CEST
TZOFFSETFROM:+0100
TZOFFSETTO:+0200
END:DAYLIGHT
END:VTIMEZONE
BEGIN:VEVENT
UID:pretix-stadtbuecherei-Bibukino1-0@pretix.eu
DTSTART;TZID=Europe/Berlin:20230913T160000
DTEND;TZID=Europe/Berlin:20230913T170000
DESCRIPTION:Tickets: https://pretix.eu/stadtbuecherei/Bibukino1/\nEinlass: 
 13.09.2023 15:50\nVeranstalter: Stadtbücherei Haltern am See
DTSTAMP:20260419T170457Z
LOCATION:Stadtbücherei\, Lavesumer Str. 1g\, 45721 Haltern am See
SUMMARY:Bilderbuchkino "Wo ist das Klopapier"
END:VEVENT
END:VCALENDAR
