BEGIN:VCALENDAR
VERSION:2.0
PRODID:-//pretix//pretix.eu//
BEGIN:VTIMEZONE
TZID:Europe/Berlin
BEGIN:STANDARD
DTSTART:20001029T040000
RRULE:FREQ=YEARLY;BYDAY=-1SU;BYMONTH=10
TZNAME:CET
TZOFFSETFROM:+0200
TZOFFSETTO:+0100
END:STANDARD
BEGIN:DAYLIGHT
DTSTART:20000326T030000
RRULE:FREQ=YEARLY;BYDAY=-1SU;BYMONTH=3
TZNAME:CEST
TZOFFSETFROM:+0100
TZOFFSETTO:+0200
END:DAYLIGHT
END:VTIMEZONE
BEGIN:VEVENT
UID:pretix-stadtbuecherei-Heldt23-0@pretix.eu
DTSTART;TZID=Europe/Berlin:20231124T193000
DTEND;TZID=Europe/Berlin:20231124T220000
DESCRIPTION:Tickets: https://pretix.eu/stadtbuecherei/Heldt23/\nEinlass: 24
 .11.2023 19:00\nVeranstalter: Stadtbücherei Haltern am See
DTSTAMP:20260419T123415Z
LOCATION:Stadtbücherei\, Lavesumer Str. 1g\, 45721 Haltern am See
SUMMARY:Lesung Dora Heldt : Drei Frauen und ein falsches Leben
END:VEVENT
END:VCALENDAR
