BEGIN:VCALENDAR
VERSION:2.0
PRODID:-//pretix//pretix.eu//
BEGIN:VTIMEZONE
TZID:Europe/Berlin
BEGIN:STANDARD
DTSTART:20001029T040000
RRULE:FREQ=YEARLY;BYDAY=-1SU;BYMONTH=10
TZNAME:CET
TZOFFSETFROM:+0200
TZOFFSETTO:+0100
END:STANDARD
BEGIN:DAYLIGHT
DTSTART:20000326T030000
RRULE:FREQ=YEARLY;BYDAY=-1SU;BYMONTH=3
TZNAME:CEST
TZOFFSETFROM:+0100
TZOFFSETTO:+0200
END:DAYLIGHT
END:VTIMEZONE
BEGIN:VEVENT
UID:pretix-stadtbuecherei-Siebdru-1225-0@pretix.eu
DTSTART;TZID=Europe/Berlin:20251128T150000
DTEND;TZID=Europe/Berlin:20251128T180000
DESCRIPTION:Tickets: https://pretix.eu/stadtbuecherei/Siebdru-1225/\nEinlas
 s: 28.11.2025 14:50\nVeranstalter: Stadtbücherei Haltern am See
DTSTAMP:20260419T141508Z
LOCATION:Stadtbücherei Haltern am See\, Laversumer Straße 1g\, 45721 Halt
 ern am See
SUMMARY:p³ - MAKERROOM: "Druckfrische Weihnachten" - Siebdruck für GROSS 
 und KLEIN
END:VEVENT
END:VCALENDAR
