BEGIN:VCALENDAR
VERSION:2.0
PRODID:-//pretix//pretix.eu//
BEGIN:VTIMEZONE
TZID:Europe/Berlin
BEGIN:STANDARD
DTSTART:20001029T040000
RRULE:FREQ=YEARLY;BYDAY=-1SU;BYMONTH=10
TZNAME:CET
TZOFFSETFROM:+0200
TZOFFSETTO:+0100
END:STANDARD
BEGIN:DAYLIGHT
DTSTART:20000326T030000
RRULE:FREQ=YEARLY;BYDAY=-1SU;BYMONTH=3
TZNAME:CEST
TZOFFSETFROM:+0100
TZOFFSETTO:+0200
END:DAYLIGHT
END:VTIMEZONE
BEGIN:VEVENT
UID:pretix-stadtbuecherei-Wiesinger23-0@pretix.eu
DTSTART;TZID=Europe/Berlin:20231027T193000
DTEND;TZID=Europe/Berlin:20231027T213000
DESCRIPTION:Tickets: https://pretix.eu/stadtbuecherei/Wiesinger23/\nEinlass
 : 27.10.2023 19:00\nVeranstalter: Stadtbücherei Haltern am See
DTSTAMP:20260419T123411Z
LOCATION:Stadtbücherei\, Lavesumer Straße 1g\, 45721 Haltern am See
SUMMARY:Lesung Kai Wiesinger : Liebe ist das\, was den ganzen Scheiß zusam
 menhält
END:VEVENT
END:VCALENDAR
