BEGIN:VCALENDAR
VERSION:2.0
PRODID:-//pretix//pretix.eu//
BEGIN:VTIMEZONE
TZID:Europe/Berlin
BEGIN:STANDARD
DTSTART:20001029T040000
RRULE:FREQ=YEARLY;BYDAY=-1SU;BYMONTH=10
TZNAME:CET
TZOFFSETFROM:+0200
TZOFFSETTO:+0100
END:STANDARD
BEGIN:DAYLIGHT
DTSTART:20000326T030000
RRULE:FREQ=YEARLY;BYDAY=-1SU;BYMONTH=3
TZNAME:CEST
TZOFFSETFROM:+0100
TZOFFSETTO:+0200
END:DAYLIGHT
END:VTIMEZONE
BEGIN:VEVENT
UID:pretix-stadtholding-kinderpartymarkusbecker-0@pretix.eu
DTSTART;TZID=Europe/Berlin:20250511T140000
DTEND;TZID=Europe/Berlin:20250511T150000
DESCRIPTION:Tickets: https://pretix.eu/stadtholding/kinderpartymarkusbecker
 /\nVeranstalter: Stadtholding Landau in der Pfalz GmbH
DTSTAMP:20260422T112513Z
LOCATION:Jugendstil-Festhalle\, Mahlastraße 3\, 76829 Landau in der Pfalz
SUMMARY:Kinderparty mit Markus Becker
END:VEVENT
END:VCALENDAR
