BEGIN:VCALENDAR
VERSION:2.0
PRODID:-//pretix//pretix.eu//
BEGIN:VTIMEZONE
TZID:Europe/Berlin
BEGIN:STANDARD
DTSTART:20001029T040000
RRULE:FREQ=YEARLY;BYDAY=-1SU;BYMONTH=10
TZNAME:CET
TZOFFSETFROM:+0200
TZOFFSETTO:+0100
END:STANDARD
BEGIN:DAYLIGHT
DTSTART:20000326T030000
RRULE:FREQ=YEARLY;BYDAY=-1SU;BYMONTH=3
TZNAME:CEST
TZOFFSETFROM:+0100
TZOFFSETTO:+0200
END:DAYLIGHT
END:VTIMEZONE
BEGIN:VEVENT
UID:pretix-stadtrees-unter-1-4651101@pretix.eu
DTSTART;TZID=Europe/Berlin:20251002T160000
DTEND;TZID=Europe/Berlin:20251002T170000
DESCRIPTION:Tickets: https://pretix.eu/stadtrees/unter-1/4651101/\nVeransta
 lter: Stadt Rees
DTSTAMP:20260420T025608Z
LOCATION:Rudolf-Diesel-Str. 11 - Rees
SUMMARY:Maschinenfabrik Dipl.-Ing. Georg Kersten
END:VEVENT
END:VCALENDAR
