BEGIN:VCALENDAR
VERSION:2.0
PRODID:-//pretix//pretix.eu//
BEGIN:VTIMEZONE
TZID:Europe/Berlin
BEGIN:STANDARD
DTSTART:20001029T040000
RRULE:FREQ=YEARLY;BYDAY=-1SU;BYMONTH=10
TZNAME:CET
TZOFFSETFROM:+0200
TZOFFSETTO:+0100
END:STANDARD
BEGIN:DAYLIGHT
DTSTART:20000326T030000
RRULE:FREQ=YEARLY;BYDAY=-1SU;BYMONTH=3
TZNAME:CEST
TZOFFSETFROM:+0100
TZOFFSETTO:+0200
END:DAYLIGHT
END:VTIMEZONE
BEGIN:VEVENT
UID:pretix-startsocial-stso-kennenlerntermine26-4908992@pretix.eu
DTSTART;TZID=Europe/Berlin:20260625T170000
DTEND;TZID=Europe/Berlin:20260625T180000
DESCRIPTION:Tickets: https://pretix.eu/startsocial/stso-kennenlerntermine26
 /4908992/\nVeranstalter: startsocial e.V.
DTSTAMP:20260421T175127Z
LOCATION:Virtuelle Veranstaltung über Zoom. Den Einladungslink erhalten Si
 e am Tag vor der Veranstaltung.
SUMMARY:startsocial-Kennenlerntermin Nr. 2
END:VEVENT
END:VCALENDAR
