BEGIN:VCALENDAR
VERSION:2.0
PRODID:-//pretix//pretix.eu//
BEGIN:VTIMEZONE
TZID:Europe/Berlin
BEGIN:STANDARD
DTSTART:20001029T040000
RRULE:FREQ=YEARLY;BYDAY=-1SU;BYMONTH=10
TZNAME:CET
TZOFFSETFROM:+0200
TZOFFSETTO:+0100
END:STANDARD
BEGIN:DAYLIGHT
DTSTART:20000326T030000
RRULE:FREQ=YEARLY;BYDAY=-1SU;BYMONTH=3
TZNAME:CEST
TZOFFSETFROM:+0100
TZOFFSETTO:+0200
END:DAYLIGHT
END:VTIMEZONE
BEGIN:VEVENT
UID:pretix-stephanusbuch-20250415001-0@pretix.eu
DTSTART;TZID=Europe/Berlin:20250415T200000
DTEND;TZID=Europe/Berlin:20250415T210000
DESCRIPTION:Tickets: https://pretix.eu/stephanusbuch/20250415001/\nVeransta
 lter: MB Buch und Medien GmbH & Co. KG
DTSTAMP:20260422T112446Z
LOCATION:P8\, Schauenburgstraße 5\, 76135 Karlsruhe
SUMMARY:Sarah Lorenz liest aus "Mit dir\, da möchte ich im Himmel Kaffee t
 rinken"
END:VEVENT
END:VCALENDAR
