BEGIN:VCALENDAR
VERSION:2.0
PRODID:-//pretix//pretix.eu//
BEGIN:VTIMEZONE
TZID:Europe/Berlin
BEGIN:STANDARD
DTSTART:20001029T040000
RRULE:FREQ=YEARLY;BYDAY=-1SU;BYMONTH=10
TZNAME:CET
TZOFFSETFROM:+0200
TZOFFSETTO:+0100
END:STANDARD
BEGIN:DAYLIGHT
DTSTART:20000326T030000
RRULE:FREQ=YEARLY;BYDAY=-1SU;BYMONTH=3
TZNAME:CEST
TZOFFSETFROM:+0100
TZOFFSETTO:+0200
END:DAYLIGHT
END:VTIMEZONE
BEGIN:VEVENT
UID:pretix-stiftung-genshagen-20251009-0@pretix.eu
DTSTART;TZID=Europe/Berlin:20251009T100000
DTEND;TZID=Europe/Berlin:20251009T180000
DESCRIPTION:Tickets: https://pretix.eu/stiftung-genshagen/20251009/\nAdmiss
 ion: 2025-10-09 09:30\nOrganizer: Stiftung Genshagen
DTSTAMP:20260421T192950Z
LOCATION:European House\, Unter den Linden 78\, 10117 Berlin
SUMMARY:European Conference “Democratization of the Arts? Through the Art
 s? New Strategies for Arts and Culture Education in Europe”
END:VEVENT
END:VCALENDAR
