BEGIN:VCALENDAR
VERSION:2.0
PRODID:-//pretix//pretix.eu//
BEGIN:VTIMEZONE
TZID:Europe/Berlin
BEGIN:STANDARD
DTSTART:20001029T040000
RRULE:FREQ=YEARLY;BYDAY=-1SU;BYMONTH=10
TZNAME:CET
TZOFFSETFROM:+0200
TZOFFSETTO:+0100
END:STANDARD
BEGIN:DAYLIGHT
DTSTART:20000326T030000
RRULE:FREQ=YEARLY;BYDAY=-1SU;BYMONTH=3
TZNAME:CEST
TZOFFSETFROM:+0100
TZOFFSETTO:+0200
END:DAYLIGHT
END:VTIMEZONE
BEGIN:VEVENT
UID:pretix-stories-crossing-the-border-guided-tour-3711381@pretix.eu
DTSTART;TZID=Europe/Berlin:20221119T173000
DTEND;TZID=Europe/Berlin:20221119T183000
DESCRIPTION:Tickets: https://pretix.eu/stories-crossing-the-border/guided-t
 our/3711381/\nOrganizer: Tuçe Erel
DTSTAMP:20260423T104555Z
LOCATION:Aquarium\, Skalitzer Str. 6\, 10999 Berlin
SUMMARY:Guided Tour | Stories: crossing the border (tour 1)
END:VEVENT
END:VCALENDAR
