BEGIN:VCALENDAR
VERSION:2.0
PRODID:-//pretix//pretix.eu//
BEGIN:VTIMEZONE
TZID:Europe/Berlin
BEGIN:STANDARD
DTSTART:20001029T040000
RRULE:FREQ=YEARLY;BYDAY=-1SU;BYMONTH=10
TZNAME:CET
TZOFFSETFROM:+0200
TZOFFSETTO:+0100
END:STANDARD
BEGIN:DAYLIGHT
DTSTART:20000326T030000
RRULE:FREQ=YEARLY;BYDAY=-1SU;BYMONTH=3
TZNAME:CEST
TZOFFSETFROM:+0100
TZOFFSETTO:+0200
END:DAYLIGHT
END:VTIMEZONE
BEGIN:VEVENT
UID:pretix-straelen-ticketshop-GCTJ-26-4814421@pretix.eu
DTSTART;TZID=Europe/Berlin:20260506T103000
DTEND;TZID=Europe/Berlin:20260506T113000
DESCRIPTION:Tickets: https://pretix.eu/straelen-ticketshop/GCTJ-26/4814421/
 \nVeranstalter: Stadt Straelen
DTSTAMP:20260422T220620Z
LOCATION:Markt\, Straelen
SUMMARY:Naturpark Schwalm-Nette und Brüggen - Natur pur im Naturpark
END:VEVENT
END:VCALENDAR
