BEGIN:VCALENDAR
VERSION:2.0
PRODID:-//pretix//pretix.eu//
BEGIN:VTIMEZONE
TZID:Europe/Berlin
BEGIN:STANDARD
DTSTART:20001029T040000
RRULE:FREQ=YEARLY;BYDAY=-1SU;BYMONTH=10
TZNAME:CET
TZOFFSETFROM:+0200
TZOFFSETTO:+0100
END:STANDARD
BEGIN:DAYLIGHT
DTSTART:20000326T030000
RRULE:FREQ=YEARLY;BYDAY=-1SU;BYMONTH=3
TZNAME:CEST
TZOFFSETFROM:+0100
TZOFFSETTO:+0200
END:DAYLIGHT
END:VTIMEZONE
BEGIN:VEVENT
UID:pretix-straze-impr-3846890@pretix.eu
DTSTART;TZID=Europe/Berlin:20230504T200000
DTEND;TZID=Europe/Berlin:20230504T220000
DESCRIPTION:Tickets: https://pretix.eu/straze/impr/3846890/\nEinlass: 04.05
 .2023 19:30\nVeranstalter: Kultur- und Initiativenhaus Greifswald e.V.
DTSTAMP:20260422T001635Z
LOCATION:StraZe - Saal\, Stralsunder Straße 10\, 17489 Greifswald
SUMMARY:CSI Ma'Ma Ernst
END:VEVENT
END:VCALENDAR
