BEGIN:VCALENDAR
VERSION:2.0
PRODID:-//pretix//pretix.eu//
BEGIN:VTIMEZONE
TZID:Europe/Berlin
BEGIN:STANDARD
DTSTART:20001029T040000
RRULE:FREQ=YEARLY;BYDAY=-1SU;BYMONTH=10
TZNAME:CET
TZOFFSETFROM:+0200
TZOFFSETTO:+0100
END:STANDARD
BEGIN:DAYLIGHT
DTSTART:20000326T030000
RRULE:FREQ=YEARLY;BYDAY=-1SU;BYMONTH=3
TZNAME:CEST
TZOFFSETFROM:+0100
TZOFFSETTO:+0200
END:DAYLIGHT
END:VTIMEZONE
BEGIN:VEVENT
UID:pretix-straze-wing-it-3964543@pretix.eu
DTSTART;TZID=Europe/Berlin:20231016T180000
DTEND;TZID=Europe/Berlin:20231016T200000
DESCRIPTION:Tickets: https://pretix.eu/straze/wing-it/3964543/\nVeranstalte
 r: Kultur- und Initiativenhaus Greifswald e.V.
DTSTAMP:20260422T001635Z
LOCATION:Probenraum des StuThe\, Untergeschoss der Franz-Mehring Straße 48
 \, 17489 Greifswald
SUMMARY:Wing - It! - Semesterauftakt nicht nur für Erstis
END:VEVENT
END:VCALENDAR
