BEGIN:VCALENDAR
VERSION:2.0
PRODID:-//pretix//pretix.eu//
BEGIN:VTIMEZONE
TZID:Europe/Berlin
BEGIN:STANDARD
DTSTART:20001029T040000
RRULE:FREQ=YEARLY;BYDAY=-1SU;BYMONTH=10
TZNAME:CET
TZOFFSETFROM:+0200
TZOFFSETTO:+0100
END:STANDARD
BEGIN:DAYLIGHT
DTSTART:20000326T030000
RRULE:FREQ=YEARLY;BYDAY=-1SU;BYMONTH=3
TZNAME:CEST
TZOFFSETFROM:+0100
TZOFFSETTO:+0200
END:DAYLIGHT
END:VTIMEZONE
BEGIN:VEVENT
UID:pretix-studioeins-berlinaletalk-4826073@pretix.eu
DTSTART;TZID=Europe/Berlin:20260219T190000
DTEND;TZID=Europe/Berlin:20260219T210000
DESCRIPTION:Tickets: https://pretix.eu/studioeins/berlinaletalk/4826073/\nE
 inlass: 19.02.2026 18:00\nVeranstalter: radioeins
DTSTAMP:20260419T185113Z
LOCATION:studioeins von radioeins\, im Bikini Berlin\, Budapester Str. 38-5
 0\, 10787 Berlin
SUMMARY:Der Berlinale Talk mit Knut Elstermann
END:VEVENT
END:VCALENDAR
