BEGIN:VCALENDAR
VERSION:2.0
PRODID:-//pretix//pretix.eu//
BEGIN:VTIMEZONE
TZID:Europe/Berlin
BEGIN:STANDARD
DTSTART:20001029T040000
RRULE:FREQ=YEARLY;BYDAY=-1SU;BYMONTH=10
TZNAME:CET
TZOFFSETFROM:+0200
TZOFFSETTO:+0100
END:STANDARD
BEGIN:DAYLIGHT
DTSTART:20000326T030000
RRULE:FREQ=YEARLY;BYDAY=-1SU;BYMONTH=3
TZNAME:CEST
TZOFFSETFROM:+0100
TZOFFSETTO:+0200
END:DAYLIGHT
END:VTIMEZONE
BEGIN:VEVENT
UID:pretix-studioeins-kalkwelk-2-0@pretix.eu
DTSTART;TZID=Europe/Berlin:20231021T160000
DTEND;TZID=Europe/Berlin:20231021T190000
DESCRIPTION:Tickets: https://pretix.eu/studioeins/kalkwelk-2/\nEinlass: 21.
 10.2023 15:00\nVeranstalter: radioeins
DTSTAMP:20260419T153037Z
LOCATION:Studio 14 - die rbb Dachlounge\, Masurenallee 20\, 14057 Berlin
SUMMARY:Kalk & Welk – Die fabelhaften Boomer Boys – LIVE
END:VEVENT
END:VCALENDAR
