BEGIN:VCALENDAR
VERSION:2.0
PRODID:-//pretix//pretix.eu//
BEGIN:VTIMEZONE
TZID:Europe/Berlin
BEGIN:STANDARD
DTSTART:20001029T040000
RRULE:FREQ=YEARLY;BYDAY=-1SU;BYMONTH=10
TZNAME:CET
TZOFFSETFROM:+0200
TZOFFSETTO:+0100
END:STANDARD
BEGIN:DAYLIGHT
DTSTART:20000326T030000
RRULE:FREQ=YEARLY;BYDAY=-1SU;BYMONTH=3
TZNAME:CEST
TZOFFSETFROM:+0100
TZOFFSETTO:+0200
END:DAYLIGHT
END:VTIMEZONE
BEGIN:VEVENT
UID:pretix-studioeins-profisontour-0@pretix.eu
DTSTART;TZID=Europe/Berlin:20240308T190000
DTEND;TZID=Europe/Berlin:20240308T210000
DESCRIPTION:Tickets: https://pretix.eu/studioeins/profisontour/\nVeranstalt
 er: radioeins
DTSTAMP:20260419T153059Z
LOCATION:Berliner Medizinhistorisches Museum der Charité\, Hörsaalruine\,
  Virchowweg 16 – (Chariteplatz 1)\, 10117 Berlin
SUMMARY:Die Profis on Tour
END:VEVENT
END:VCALENDAR
