BEGIN:VCALENDAR
VERSION:2.0
PRODID:-//pretix//pretix.eu//
BEGIN:VTIMEZONE
TZID:Europe/Berlin
BEGIN:STANDARD
DTSTART:20001029T040000
RRULE:FREQ=YEARLY;BYDAY=-1SU;BYMONTH=10
TZNAME:CET
TZOFFSETFROM:+0200
TZOFFSETTO:+0100
END:STANDARD
BEGIN:DAYLIGHT
DTSTART:20000326T030000
RRULE:FREQ=YEARLY;BYDAY=-1SU;BYMONTH=3
TZNAME:CEST
TZOFFSETFROM:+0100
TZOFFSETTO:+0200
END:DAYLIGHT
END:VTIMEZONE
BEGIN:VEVENT
UID:pretix-studioeins-studioeins-open-air-2451558@pretix.eu
DTSTART;TZID=Europe/Berlin:20210910T190000
DTEND;TZID=Europe/Berlin:20210910T210000
DESCRIPTION:Tickets: https://pretix.eu/studioeins/studioeins-open-air/24515
 58/\nEinlass: 10.09.2021 18:00\nVeranstalter: radioeins
DTSTAMP:20260419T170639Z
LOCATION:auf dem Dach vom\, BIKINI BERLIN\, Budapester Str. 38-50\, 10787 B
 erlin
SUMMARY:studioeins Open-Air 2021
END:VEVENT
END:VCALENDAR
