BEGIN:VCALENDAR
VERSION:2.0
PRODID:-//pretix//pretix.eu//
BEGIN:VTIMEZONE
TZID:Europe/Berlin
BEGIN:STANDARD
DTSTART:20001029T040000
RRULE:FREQ=YEARLY;BYDAY=-1SU;BYMONTH=10
TZNAME:CET
TZOFFSETFROM:+0200
TZOFFSETTO:+0100
END:STANDARD
BEGIN:DAYLIGHT
DTSTART:20000326T030000
RRULE:FREQ=YEARLY;BYDAY=-1SU;BYMONTH=3
TZNAME:CEST
TZOFFSETFROM:+0100
TZOFFSETTO:+0200
END:DAYLIGHT
END:VTIMEZONE
BEGIN:VEVENT
UID:pretix-sunk-Radtour26-0@pretix.eu
DTSTART;TZID=Europe/Berlin:20260523T100000
DTEND;TZID=Europe/Berlin:20260523T110000
DESCRIPTION:Tickets: https://pretix.eu/sunk/Radtour26/\nVeranstalter: Stift
 ung Umwelt\, Natur- und Klimaschutz des Landes Sachsen-Anhalt
DTSTAMP:20260423T021218Z
LOCATION:Parkplatz Willecke's Lust an der L87\, Hasenwinkelgrund 2\, 38315 
 Schladen-Werla\, Koordinaten: 52.0131530\, 10.6199575
SUMMARY:Radtour am Grünen Band
END:VEVENT
END:VCALENDAR
