BEGIN:VCALENDAR
VERSION:2.0
PRODID:-//pretix//pretix.eu//
BEGIN:VTIMEZONE
TZID:Europe/Berlin
BEGIN:STANDARD
DTSTART:20001029T040000
RRULE:FREQ=YEARLY;BYDAY=-1SU;BYMONTH=10
TZNAME:CET
TZOFFSETFROM:+0200
TZOFFSETTO:+0100
END:STANDARD
BEGIN:DAYLIGHT
DTSTART:20000326T030000
RRULE:FREQ=YEARLY;BYDAY=-1SU;BYMONTH=3
TZNAME:CEST
TZOFFSETFROM:+0100
TZOFFSETTO:+0200
END:DAYLIGHT
END:VTIMEZONE
BEGIN:VEVENT
UID:pretix-sustain-summit-0@pretix.eu
DTSTART;TZID=Europe/Berlin:20230922T093000
DTEND;TZID=Europe/Berlin:20230922T190000
DESCRIPTION:Tickets: https://pretix.eu/sustain/summit/\nOrganizer: Green Ev
 ents Hamburg | The Changency | RBX GmbH
DTSTAMP:20260424T174009Z
LOCATION:Schmidts Tivoli\, Spielbudenpl. 27-28\, 20359 Hamburg
SUMMARY:Sustain! - Green Culture Summit
END:VEVENT
END:VCALENDAR
