BEGIN:VCALENDAR
VERSION:2.0
PRODID:-//pretix//pretix.eu//
BEGIN:VTIMEZONE
TZID:Europe/Berlin
BEGIN:STANDARD
DTSTART:20001029T040000
RRULE:FREQ=YEARLY;BYDAY=-1SU;BYMONTH=10
TZNAME:CET
TZOFFSETFROM:+0200
TZOFFSETTO:+0100
END:STANDARD
BEGIN:DAYLIGHT
DTSTART:20000326T030000
RRULE:FREQ=YEARLY;BYDAY=-1SU;BYMONTH=3
TZNAME:CEST
TZOFFSETFROM:+0100
TZOFFSETTO:+0200
END:DAYLIGHT
END:VTIMEZONE
BEGIN:VEVENT
UID:pretix-sustainable-economy-summit-tickets-0@pretix.eu
DTSTART;TZID=Europe/Berlin:20260421T100000
DTEND;TZID=Europe/Berlin:20260422T200000
DESCRIPTION:Tickets: https://pretix.eu/sustainable-economy-summit/tickets/\
 nEinlass: 21.04.2026 09:00\nVeranstalter: Sustainable Economy gGmbH
DTSTAMP:20260421T045914Z
LOCATION:AXICA\, Kongress- & Tagungszentrum\, Pariser Platz 3 GmbH\, 10117 
 Berlin
SUMMARY:Sustainable Economy Summit
END:VEVENT
END:VCALENDAR
