BEGIN:VCALENDAR
VERSION:2.0
PRODID:-//pretix//pretix.eu//
BEGIN:VTIMEZONE
TZID:Europe/Berlin
BEGIN:STANDARD
DTSTART:20001029T040000
RRULE:FREQ=YEARLY;BYDAY=-1SU;BYMONTH=10
TZNAME:CET
TZOFFSETFROM:+0200
TZOFFSETTO:+0100
END:STANDARD
BEGIN:DAYLIGHT
DTSTART:20000326T030000
RRULE:FREQ=YEARLY;BYDAY=-1SU;BYMONTH=3
TZNAME:CEST
TZOFFSETFROM:+0100
TZOFFSETTO:+0200
END:DAYLIGHT
END:VTIMEZONE
BEGIN:VEVENT
UID:pretix-tanzareal-Anjulie-2-0@pretix.eu
DTSTART;TZID=Europe/Berlin:20260423T200000
DTEND;TZID=Europe/Berlin:20260423T213000
DESCRIPTION:Tickets: https://pretix.eu/tanzareal/Anjulie-2/\nOrganizer: Tan
 zAreal Karlsruhe e.V.
DTSTAMP:20260424T010313Z
LOCATION:TanzAreal Karlsruhe e.V.\, Hardtstraße 37a\, 76185 Karlsruhe
SUMMARY:Zeitgenössische Class mit Anjulie (open Level)
END:VEVENT
BEGIN:VEVENT
UID:pretix-tanzareal-modernballet-2-0@pretix.eu
DTSTART;TZID=Europe/Berlin:20260424T103000
DTEND;TZID=Europe/Berlin:20260424T120000
DESCRIPTION:Tickets: https://pretix.eu/tanzareal/modernballet-2/\nOrganizer
 : TanzAreal Karlsruhe e.V.
DTSTAMP:20260424T010313Z
LOCATION:TanzAreal Karlsruhe e.V\, Hardtstraße 37a\, 76185 Karlsruhe
SUMMARY:Modern Ballet mit Charlotte (advanced)
END:VEVENT
BEGIN:VEVENT
UID:pretix-tanzareal-gegenwart-0@pretix.eu
DTSTART;TZID=Europe/Berlin:20260516T140000
DTEND;TZID=Europe/Berlin:20260516T160000
DESCRIPTION:Tickets: https://pretix.eu/tanzareal/gegenwart/\nOrganizer: Tan
 zAreal Karlsruhe e.V.
DTSTAMP:20260424T010313Z
LOCATION:TanzAreal Karlsruhe\, Hardtstraße 37a\, 76185 Karlsruhe
SUMMARY:Gegenwartskonzentrat - Angeleitete Tanzimprovisation (WORKSHOP)
END:VEVENT
END:VCALENDAR
