BEGIN:VCALENDAR
VERSION:2.0
PRODID:-//pretix//pretix.eu//
BEGIN:VTIMEZONE
TZID:Europe/Berlin
BEGIN:STANDARD
DTSTART:20001029T040000
RRULE:FREQ=YEARLY;BYDAY=-1SU;BYMONTH=10
TZNAME:CET
TZOFFSETFROM:+0200
TZOFFSETTO:+0100
END:STANDARD
BEGIN:DAYLIGHT
DTSTART:20000326T030000
RRULE:FREQ=YEARLY;BYDAY=-1SU;BYMONTH=3
TZNAME:CEST
TZOFFSETFROM:+0100
TZOFFSETTO:+0200
END:DAYLIGHT
END:VTIMEZONE
BEGIN:VEVENT
UID:pretix-tanzfabrikberlin-themultiplicity-3987890@pretix.eu
DTSTART;TZID=Europe/Berlin:20231130T203000
DTEND;TZID=Europe/Berlin:20231130T213000
DESCRIPTION:Tickets: https://pretix.eu/tanzfabrikberlin/themultiplicity/398
 7890/\nVeranstalter: Tanzfabrik Berlin e.V.
DTSTAMP:20260422T104545Z
LOCATION:Tanzfabrik in den Uferstudios\, Uferstraße 23 / Badstr. 41a 13357
  Berlin\, STUDIO 5
SUMMARY:The Multiplicity of the Other - Ixchel Mendoza Hernández
END:VEVENT
END:VCALENDAR
