BEGIN:VCALENDAR
VERSION:2.0
PRODID:-//pretix//pretix.eu//
BEGIN:VTIMEZONE
TZID:Europe/Berlin
BEGIN:STANDARD
DTSTART:20001029T040000
RRULE:FREQ=YEARLY;BYDAY=-1SU;BYMONTH=10
TZNAME:CET
TZOFFSETFROM:+0200
TZOFFSETTO:+0100
END:STANDARD
BEGIN:DAYLIGHT
DTSTART:20000326T030000
RRULE:FREQ=YEARLY;BYDAY=-1SU;BYMONTH=3
TZNAME:CEST
TZOFFSETFROM:+0100
TZOFFSETTO:+0200
END:DAYLIGHT
END:VTIMEZONE
BEGIN:VEVENT
UID:pretix-taz-tellerrand-talk-0@pretix.eu
DTSTART;TZID=Europe/Berlin:20260421T190000
DTEND;TZID=Europe/Berlin:20260421T210000
DESCRIPTION:Tickets: https://pretix.eu/taz/tellerrand-talk/\nEinlass: 21.04
 .2026 18:30\nVeranstalter: taz Verlags- und Vertriebs GmbH Friedrichstr. 2
 1 10969 Berlin
DTSTAMP:20260421T061416Z
LOCATION:taz Kantine\, Friedrichstraße 21\, 10969 Berlin
SUMMARY:Der Blick über den Tellerrand
END:VEVENT
END:VCALENDAR
