BEGIN:VCALENDAR
VERSION:2.0
PRODID:-//pretix//pretix.eu//
BEGIN:VTIMEZONE
TZID:Europe/Berlin
BEGIN:STANDARD
DTSTART:20001029T040000
RRULE:FREQ=YEARLY;BYDAY=-1SU;BYMONTH=10
TZNAME:CET
TZOFFSETFROM:+0200
TZOFFSETTO:+0100
END:STANDARD
BEGIN:DAYLIGHT
DTSTART:20000326T030000
RRULE:FREQ=YEARLY;BYDAY=-1SU;BYMONTH=3
TZNAME:CEST
TZOFFSETFROM:+0100
TZOFFSETTO:+0200
END:DAYLIGHT
END:VTIMEZONE
BEGIN:VEVENT
UID:pretix-tedxstuttgart-29092018-0@pretix.eu
DTSTART;TZID=Europe/Berlin:20180929T180000
DTEND;TZID=Europe/Berlin:20180929T223000
DESCRIPTION:Tickets: https://pretix.eu/tedxstuttgart/29092018/\nEinlass: 29
 .09.2018 17:30\nVeranstalter: TEDx Stuttgart
DTSTAMP:20260421T130131Z
LOCATION:Staatsgalerie\, Stuttgart
SUMMARY:TEDxStuttgart: Act.Change.Now.
END:VEVENT
END:VCALENDAR
