BEGIN:VCALENDAR
VERSION:2.0
PRODID:-//pretix//pretix.eu//
BEGIN:VTIMEZONE
TZID:Europe/Berlin
BEGIN:STANDARD
DTSTART:20001029T040000
RRULE:FREQ=YEARLY;BYDAY=-1SU;BYMONTH=10
TZNAME:CET
TZOFFSETFROM:+0200
TZOFFSETTO:+0100
END:STANDARD
BEGIN:DAYLIGHT
DTSTART:20000326T030000
RRULE:FREQ=YEARLY;BYDAY=-1SU;BYMONTH=3
TZNAME:CEST
TZOFFSETFROM:+0100
TZOFFSETTO:+0200
END:DAYLIGHT
END:VTIMEZONE
BEGIN:VEVENT
UID:pretix-tembeh-hd-2026-05-0@pretix.eu
DTSTART;TZID=Europe/Berlin:20260530T193000
DTEND;TZID=Europe/Berlin:20260530T203000
DESCRIPTION:Tickets: https://pretix.eu/tembeh/hd-2026-05/\nAdmission: 2026-
 05-30 19:00\nOrganizer: Pierre Jacob
DTSTAMP:20260420T194722Z
LOCATION:+Punkt\, Marsilius-Arkaden\,\, Im Neuenheimer Feld 130.2\,\, 69120
  Heidelberg
SUMMARY:Tembeh - Songs of The Everglade
END:VEVENT
END:VCALENDAR
