BEGIN:VCALENDAR
VERSION:2.0
PRODID:-//pretix//pretix.eu//
BEGIN:VTIMEZONE
TZID:Europe/Berlin
BEGIN:STANDARD
DTSTART:20001029T040000
RRULE:FREQ=YEARLY;BYDAY=-1SU;BYMONTH=10
TZNAME:CET
TZOFFSETFROM:+0200
TZOFFSETTO:+0100
END:STANDARD
BEGIN:DAYLIGHT
DTSTART:20000326T030000
RRULE:FREQ=YEARLY;BYDAY=-1SU;BYMONTH=3
TZNAME:CEST
TZOFFSETFROM:+0100
TZOFFSETTO:+0200
END:DAYLIGHT
END:VTIMEZONE
BEGIN:VEVENT
UID:pretix-tfw-kritik-0@pretix.eu
DTSTART;TZID=Europe/Berlin:20260324T000000
DTEND;TZID=Europe/Berlin:20260326T235959
DESCRIPTION:Tickets: https://pretix.eu/tfw/kritik/\nVeranstalter: Tübinger
  Forum für Wissenschaftskulturen\, Universität Tübingen
DTSTAMP:20260423T040107Z
LOCATION:Tübinger Forum für Wissenschaftskulturen (TFW)\, Doblerstr. 33\,
  72074 Tübingen\, 1. Stock
SUMMARY:Interdisziplinärer Workshop: Was ist Kritik?
END:VEVENT
END:VCALENDAR
