BEGIN:VCALENDAR
VERSION:2.0
PRODID:-//pretix//pretix.eu//
BEGIN:VTIMEZONE
TZID:Europe/Berlin
BEGIN:STANDARD
DTSTART:20001029T040000
RRULE:FREQ=YEARLY;BYDAY=-1SU;BYMONTH=10
TZNAME:CET
TZOFFSETFROM:+0200
TZOFFSETTO:+0100
END:STANDARD
BEGIN:DAYLIGHT
DTSTART:20000326T030000
RRULE:FREQ=YEARLY;BYDAY=-1SU;BYMONTH=3
TZNAME:CEST
TZOFFSETFROM:+0100
TZOFFSETTO:+0200
END:DAYLIGHT
END:VTIMEZONE
BEGIN:VEVENT
UID:pretix-tgbw-2026zentrans-0@pretix.eu
DTSTART;TZID=Europe/Berlin:20260505T180000
DTEND;TZID=Europe/Berlin:20260505T200000
DESCRIPTION:Tickets: https://pretix.eu/tgbw/2026zentrans/\nVeranstalter: T
 ürkische Gemeinde in Baden-Württemberg e.V.
DTSTAMP:20260422T014535Z
LOCATION:in Stuttgart\; genaue Adresse wird nach Anmeldung bekannt gegeben.
SUMMARY:Begegnungsabend – ZEN & Trans
END:VEVENT
END:VCALENDAR
