BEGIN:VCALENDAR
VERSION:2.0
PRODID:-//pretix//pretix.eu//
BEGIN:VTIMEZONE
TZID:Europe/Berlin
BEGIN:STANDARD
DTSTART:20001029T040000
RRULE:FREQ=YEARLY;BYDAY=-1SU;BYMONTH=10
TZNAME:CET
TZOFFSETFROM:+0200
TZOFFSETTO:+0100
END:STANDARD
BEGIN:DAYLIGHT
DTSTART:20000326T030000
RRULE:FREQ=YEARLY;BYDAY=-1SU;BYMONTH=3
TZNAME:CEST
TZOFFSETFROM:+0100
TZOFFSETTO:+0200
END:DAYLIGHT
END:VTIMEZONE
BEGIN:VEVENT
UID:pretix-tgms1862-Gutscheine-0@pretix.eu
DTSTART;TZID=Europe/Berlin:20250615T000000
DTEND;TZID=Europe/Berlin:20991231T235959
DESCRIPTION:Tickets: https://pretix.eu/tgms1862/Gutscheine/\nVeranstalter: 
 Turngemeinde Münster von 1862 e.V.
DTSTAMP:20260424T172525Z
SUMMARY:Geschenkgutscheine
END:VEVENT
BEGIN:VEVENT
UID:pretix-tgms1862-Hist26Q23Mi-2-0@pretix.eu
DTSTART;TZID=Europe/Berlin:20260408T193000
DTEND;TZID=Europe/Berlin:20260624T210000
DESCRIPTION:Tickets: https://pretix.eu/tgms1862/Hist26Q23Mi-2/\nVeranstalte
 r: Turngemeinde Münster von 1862 e.V.
DTSTAMP:20260424T172525Z
LOCATION:Turnhalle der Martini-Grundschule\, Stiftsherrenstraße 40-45\, 48
 143 Münster
SUMMARY:Mittwochs Einsteigerkurs Schwertfechten 12 Termine
END:VEVENT
BEGIN:VEVENT
UID:pretix-tgms1862-KiMo2026U9U13-3-0@pretix.eu
DTSTART;TZID=Europe/Berlin:20260504T163000
DTEND;TZID=Europe/Berlin:20260608T180000
DESCRIPTION:Tickets: https://pretix.eu/tgms1862/KiMo2026U9U13-3/\nVeranstal
 ter: Turngemeinde Münster von 1862 e.V.
DTSTAMP:20260424T172525Z
LOCATION:Turnhalle der Martinischule\, Stiftsherrenstr. 40-45 in 48143 Mün
 ster.
SUMMARY:Schnupperkurs montags für 7 bis 12 jährige Kinder (U9/U11/U13) So
 mmer 2026
END:VEVENT
BEGIN:VEVENT
UID:pretix-tgms1862-JuDi2026U15U17-2-0@pretix.eu
DTSTART;TZID=Europe/Berlin:20260505T170000
DTEND;TZID=Europe/Berlin:20260608T183000
DESCRIPTION:Tickets: https://pretix.eu/tgms1862/JuDi2026U15U17-2/\nVeransta
 lter: Turngemeinde Münster von 1862 e.V.
DTSTAMP:20260424T172525Z
LOCATION:Turnhalle der Martinischule\, Stiftsherrenstr. 40-45 in 48143 Mün
 ster.
SUMMARY:Schnupperkurs dienstags für 13 bis 16 jährige Jugendliche (U15/U1
 7) Sommer 2026
END:VEVENT
BEGIN:VEVENT
UID:pretix-tgms1862-ErwDi2026-3-0@pretix.eu
DTSTART;TZID=Europe/Berlin:20260505T190000
DTEND;TZID=Europe/Berlin:20260602T203000
DESCRIPTION:Tickets: https://pretix.eu/tgms1862/ErwDi2026-3/\nVeranstalter:
  Turngemeinde Münster von 1862 e.V.
DTSTAMP:20260424T172525Z
LOCATION:Turnhalle der Martinischule\, Stiftsherrenstr. 40-45 in 48143 Mün
 ster.
SUMMARY:Schnupperkurs dienstags für Erwachsene ab 16 - 99 Jahren (U20 - Ve
 teranen) Sommer 2026
END:VEVENT
BEGIN:VEVENT
UID:pretix-tgms1862-KiDo2026U9U3-3-0@pretix.eu
DTSTART;TZID=Europe/Berlin:20260507T170000
DTEND;TZID=Europe/Berlin:20260618T180000
DESCRIPTION:Tickets: https://pretix.eu/tgms1862/KiDo2026U9U3-3/\nVeranstalt
 er: Turngemeinde Münster von 1862 e.V.
DTSTAMP:20260424T172525Z
LOCATION:Turnhalle der Martinischule\, Stiftsherrenstr. 40-45 in 48143 Mün
 ster.
SUMMARY:Schnupperkurs donnerstags für 7 bis 12 jährige Kinder (U9/U11/U13
 ) Sommer 2026
END:VEVENT
BEGIN:VEVENT
UID:pretix-tgms1862-KiFr2026U11U13-3-0@pretix.eu
DTSTART;TZID=Europe/Berlin:20260508T160000
DTEND;TZID=Europe/Berlin:20260605T173000
DESCRIPTION:Tickets: https://pretix.eu/tgms1862/KiFr2026U11U13-3/\nVeransta
 lter: Turngemeinde Münster von 1862 e.V.
DTSTAMP:20260424T172525Z
LOCATION:Turnhalle der Martinischule\, Stiftsherrenstr. 40-45 in 48143 Mün
 ster.
SUMMARY:Schnupperkurs freitags für 7 bis 12 jährige Kinder (U9/U11/U13) S
 ommer 2026
END:VEVENT
END:VCALENDAR
