BEGIN:VCALENDAR
VERSION:2.0
PRODID:-//pretix//pretix.eu//
BEGIN:VTIMEZONE
TZID:Europe/Berlin
BEGIN:STANDARD
DTSTART:20001029T040000
RRULE:FREQ=YEARLY;BYDAY=-1SU;BYMONTH=10
TZNAME:CET
TZOFFSETFROM:+0200
TZOFFSETTO:+0100
END:STANDARD
BEGIN:DAYLIGHT
DTSTART:20000326T030000
RRULE:FREQ=YEARLY;BYDAY=-1SU;BYMONTH=3
TZNAME:CEST
TZOFFSETFROM:+0100
TZOFFSETTO:+0200
END:DAYLIGHT
END:VTIMEZONE
BEGIN:VEVENT
UID:pretix-theatermorgenstern-holzapfel-4168749@pretix.eu
DTSTART;TZID=Europe/Berlin:20240625T100000
DTEND;TZID=Europe/Berlin:20240625T110000
DESCRIPTION:Tickets: https://pretix.eu/theatermorgenstern/holzapfel/4168749
 /\nVeranstalter: tickets@theater-morgenstern.de
DTSTAMP:20260420T023715Z
LOCATION:Morgenstern - Theater im Rathaus Friedenau
SUMMARY:Zwei Freunde
END:VEVENT
END:VCALENDAR
