BEGIN:VCALENDAR
VERSION:2.0
PRODID:-//pretix//pretix.eu//
BEGIN:VTIMEZONE
TZID:Europe/Berlin
BEGIN:STANDARD
DTSTART:20001029T040000
RRULE:FREQ=YEARLY;BYDAY=-1SU;BYMONTH=10
TZNAME:CET
TZOFFSETFROM:+0200
TZOFFSETTO:+0100
END:STANDARD
BEGIN:DAYLIGHT
DTSTART:20000326T030000
RRULE:FREQ=YEARLY;BYDAY=-1SU;BYMONTH=3
TZNAME:CEST
TZOFFSETFROM:+0100
TZOFFSETTO:+0200
END:DAYLIGHT
END:VTIMEZONE
BEGIN:VEVENT
UID:pretix-tho-cita2604-0@pretix.eu
DTSTART;TZID=Europe/Berlin:20260429T190000
DTEND;TZID=Europe/Berlin:20260429T200000
DESCRIPTION:Tickets: https://pretix.eu/tho/cita2604/\nEinlass: 29.04.2026 1
 8:00\nVeranstalter: Theaterhaus Ost
DTSTAMP:20260423T094045Z
LOCATION:Böllberger Weg 5\, 06110 Halle
SUMMARY:CITA - Cinema & Talk - Nana (Dokumentation)
END:VEVENT
END:VCALENDAR
