BEGIN:VCALENDAR
VERSION:2.0
PRODID:-//pretix//pretix.eu//
BEGIN:VEVENT
UID:pretix-tiggiessen-gm24-0@pretix.eu
DTSTART;VALUE=DATE:20241123
DTEND;VALUE=DATE:20241124
DESCRIPTION:Tickets: https://pretix.eu/tiggiessen/gm24/\nEinlass: 23.11.202
 4 09:15\nVeranstalter: Technologie- und Innovationszentrum Gießen GmbH
DTSTAMP:20260419T153055Z
LOCATION:Hessenhalle Gießen\, An der Hessenhalle 11\, 35398 Gießen
SUMMARY:Gründungsmesse Mittelhessen 2024
END:VEVENT
END:VCALENDAR
