BEGIN:VCALENDAR
VERSION:2.0
PRODID:-//pretix//pretix.eu//
BEGIN:VTIMEZONE
TZID:Europe/Berlin
BEGIN:STANDARD
DTSTART:20001029T040000
RRULE:FREQ=YEARLY;BYDAY=-1SU;BYMONTH=10
TZNAME:CET
TZOFFSETFROM:+0200
TZOFFSETTO:+0100
END:STANDARD
BEGIN:DAYLIGHT
DTSTART:20000326T030000
RRULE:FREQ=YEARLY;BYDAY=-1SU;BYMONTH=3
TZNAME:CEST
TZOFFSETFROM:+0100
TZOFFSETTO:+0200
END:DAYLIGHT
END:VTIMEZONE
BEGIN:VEVENT
UID:pretix-tobymayra-weihnachten24-0@pretix.eu
DTSTART;TZID=Europe/Berlin:20241224T110000
DTEND;TZID=Europe/Berlin:20241224T120000
DESCRIPTION:Tickets: https://pretix.eu/tobymayra/weihnachten24/\nVeranstalt
 er: Toby Mayra
DTSTAMP:20260422T171259Z
LOCATION:Stream aus dem Bürgerhaus am Schlaatz\, Potsdam. Der Link wird ku
 rzfristig zugeschickt.
SUMMARY:Toby Mayra & Freunde: Weihnachtslesung 2024
END:VEVENT
END:VCALENDAR
