BEGIN:VCALENDAR
VERSION:2.0
PRODID:-//pretix//pretix.eu//
BEGIN:VTIMEZONE
TZID:Europe/Berlin
BEGIN:STANDARD
DTSTART:20001029T040000
RRULE:FREQ=YEARLY;BYDAY=-1SU;BYMONTH=10
TZNAME:CET
TZOFFSETFROM:+0200
TZOFFSETTO:+0100
END:STANDARD
BEGIN:DAYLIGHT
DTSTART:20000326T030000
RRULE:FREQ=YEARLY;BYDAY=-1SU;BYMONTH=3
TZNAME:CEST
TZOFFSETFROM:+0100
TZOFFSETTO:+0200
END:DAYLIGHT
END:VTIMEZONE
BEGIN:VEVENT
UID:pretix-tobymayra-wunderwalks-4484730@pretix.eu
DTSTART;TZID=Europe/Berlin:20250413T133000
DTEND;TZID=Europe/Berlin:20250413T143000
DESCRIPTION:Tickets: https://pretix.eu/tobymayra/wunderwalks/4484730/\nVera
 nstalter: Toby Mayra
DTSTAMP:20260421T110553Z
LOCATION:Treffpunkt: Brunnen vor dem Schloss
SUMMARY:WunderWalk Tengen\, Schloß Blumenfeld
END:VEVENT
END:VCALENDAR
