BEGIN:VCALENDAR
VERSION:2.0
PRODID:-//pretix//pretix.eu//
BEGIN:VTIMEZONE
TZID:Europe/Berlin
BEGIN:STANDARD
DTSTART:20001029T040000
RRULE:FREQ=YEARLY;BYDAY=-1SU;BYMONTH=10
TZNAME:CET
TZOFFSETFROM:+0200
TZOFFSETTO:+0100
END:STANDARD
BEGIN:DAYLIGHT
DTSTART:20000326T030000
RRULE:FREQ=YEARLY;BYDAY=-1SU;BYMONTH=3
TZNAME:CEST
TZOFFSETFROM:+0100
TZOFFSETTO:+0200
END:DAYLIGHT
END:VTIMEZONE
BEGIN:VEVENT
UID:pretix-tobymayra-wunderwalks-4925588@pretix.eu
DTSTART;TZID=Europe/Berlin:20260516T110000
DTEND;TZID=Europe/Berlin:20260516T120000
DESCRIPTION:Tickets: https://pretix.eu/tobymayra/wunderwalks/4925588/\nVera
 nstalter: Toby Mayra
DTSTAMP:20260421T130925Z
LOCATION:Waldparkstraße 36\, 68163 Mannheim
SUMMARY:Mannheim | WunderWalk
END:VEVENT
END:VCALENDAR
