BEGIN:VCALENDAR
VERSION:2.0
PRODID:-//pretix//pretix.eu//
BEGIN:VEVENT
UID:pretix-tsv-haarbach-vm-2-0@pretix.eu
DTSTART;VALUE=DATE:20260314
DTEND;VALUE=DATE:20260315
DESCRIPTION:Tickets: https://pretix.eu/tsv-haarbach/vm-2/\nVeranstalter: TS
 V Haarbach
DTSTAMP:20260419T153100Z
LOCATION:Annaberg\, Österreich
SUMMARY:Vereinsmeisterschaft 2026 & Tagesfahrt
END:VEVENT
END:VCALENDAR
