BEGIN:VCALENDAR
VERSION:2.0
PRODID:-//pretix//pretix.eu//
BEGIN:VTIMEZONE
TZID:Europe/Berlin
BEGIN:STANDARD
DTSTART:20001029T040000
RRULE:FREQ=YEARLY;BYDAY=-1SU;BYMONTH=10
TZNAME:CET
TZOFFSETFROM:+0200
TZOFFSETTO:+0100
END:STANDARD
BEGIN:DAYLIGHT
DTSTART:20000326T030000
RRULE:FREQ=YEARLY;BYDAY=-1SU;BYMONTH=3
TZNAME:CEST
TZOFFSETFROM:+0100
TZOFFSETTO:+0200
END:DAYLIGHT
END:VTIMEZONE
BEGIN:VEVENT
UID:pretix-ubleipzig-cdvost-0@pretix.eu
DTSTART;TZID=Europe/Berlin:20180414T100000
DTEND;TZID=Europe/Berlin:20180415T180000
DESCRIPTION:Tickets: https://pretix.eu/ubleipzig/cdvost/\nVeranstalter: Uni
 versitätsbibliothek Leipzig
DTSTAMP:20260420T172901Z
LOCATION:Universitätsbibliothek Leipzig\, Bibliotheca Albertina\, Beethove
 nstraße 6\, 04107 Leipzig
SUMMARY:Coding da Vinci Ost Kick-Off-Event
END:VEVENT
END:VCALENDAR
