BEGIN:VCALENDAR
VERSION:2.0
PRODID:-//pretix//pretix.eu//
BEGIN:VTIMEZONE
TZID:Europe/Berlin
BEGIN:STANDARD
DTSTART:20001029T040000
RRULE:FREQ=YEARLY;BYDAY=-1SU;BYMONTH=10
TZNAME:CET
TZOFFSETFROM:+0200
TZOFFSETTO:+0100
END:STANDARD
BEGIN:DAYLIGHT
DTSTART:20000326T030000
RRULE:FREQ=YEARLY;BYDAY=-1SU;BYMONTH=3
TZNAME:CEST
TZOFFSETFROM:+0100
TZOFFSETTO:+0200
END:DAYLIGHT
END:VTIMEZONE
BEGIN:VEVENT
UID:pretix-ubleipzig-iiifmutec2020-0@pretix.eu
DTSTART;TZID=Europe/Berlin:20201105T100000
DTEND;TZID=Europe/Berlin:20201105T170000
DESCRIPTION:Tickets: https://pretix.eu/ubleipzig/iiifmutec2020/\nVeranstalt
 er: Universitätsbibliothek Leipzig
DTSTAMP:20260421T220055Z
LOCATION:Leipziger Messe\, Leipzig\, Germany
SUMMARY:IIIF Outreach auf der MUTEC 2020
END:VEVENT
END:VCALENDAR
