BEGIN:VCALENDAR
VERSION:2.0
PRODID:-//pretix//pretix.eu//
BEGIN:VTIMEZONE
TZID:Europe/London
BEGIN:STANDARD
DTSTART:20001029T030000
RRULE:FREQ=YEARLY;BYDAY=-1SU;BYMONTH=10
TZNAME:GMT
TZOFFSETFROM:+0100
TZOFFSETTO:+0000
END:STANDARD
BEGIN:DAYLIGHT
DTSTART:20000326T020000
RRULE:FREQ=YEARLY;BYDAY=-1SU;BYMONTH=3
TZNAME:BST
TZOFFSETFROM:+0000
TZOFFSETTO:+0100
END:DAYLIGHT
END:VTIMEZONE
BEGIN:VEVENT
UID:pretix-ucl-open-source-good-first-issue-0@pretix.eu
DTSTART;TZID=Europe/London:20251203T133000
DTEND;TZID=Europe/London:20251203T160000
DESCRIPTION:Tickets: https://pretix.eu/ucl-open-source/good-first-issue/\nO
 rganizer: Centre for Advanced Research Computing
DTSTAMP:20260421T020730Z
LOCATION:Function Space\, First Floor\, 90 High Holborn\, London WC1V 6LJ
SUMMARY:Open source good-first issue hackathon
END:VEVENT
END:VCALENDAR
