BEGIN:VCALENDAR
VERSION:2.0
PRODID:-//pretix//pretix.eu//
BEGIN:VEVENT
UID:pretix-uds-kwt-Cell2025-0@pretix.eu
DTSTART;VALUE=DATE:20251007
DTEND;VALUE=DATE:20251010
DESCRIPTION:Tickets: https://pretix.eu/uds-kwt/Cell2025/\nOrganizer: Univer
 sität des Saarlandes - ZE Triathlon
DTSTAMP:20260421T091745Z
LOCATION:Saarland University\, Campus\, Building C4 3\, 66123 Saarbrücken
SUMMARY:Cell Physics 2025
END:VEVENT
END:VCALENDAR
