BEGIN:VCALENDAR
VERSION:2.0
PRODID:-//pretix//pretix.eu//
BEGIN:VTIMEZONE
TZID:Europe/Vienna
BEGIN:STANDARD
DTSTART:20001029T040000
RRULE:FREQ=YEARLY;BYDAY=-1SU;BYMONTH=10
TZNAME:CET
TZOFFSETFROM:+0200
TZOFFSETTO:+0100
END:STANDARD
BEGIN:DAYLIGHT
DTSTART:20000326T030000
RRULE:FREQ=YEARLY;BYDAY=-1SU;BYMONTH=3
TZNAME:CEST
TZOFFSETFROM:+0100
TZOFFSETTO:+0200
END:DAYLIGHT
END:VTIMEZONE
BEGIN:VEVENT
UID:pretix-uibk-dk-alm-24-0@pretix.eu
DTSTART;TZID=Europe/Vienna:20240603T150000
DTEND;TZID=Europe/Vienna:20240603T160000
DESCRIPTION:Tickets: https://pretix.eu/uibk/dk-alm-24/\nEinlass: 03.06.2024
  14:30\nVeranstalter: Universität Innsbruck
DTSTAMP:20260421T075300Z
LOCATION:Aula der Universität\, Innrain 52\, 6020 Innsbruck
SUMMARY:Celebrating 8 years of the Doctoral Programme Atoms\, Light\, and M
 olecules: Cutting-edge research and training in physics
END:VEVENT
END:VCALENDAR
