BEGIN:VCALENDAR
VERSION:2.0
PRODID:-//pretix//pretix.eu//
BEGIN:VTIMEZONE
TZID:Europe/Berlin
BEGIN:STANDARD
DTSTART:20001029T040000
RRULE:FREQ=YEARLY;BYDAY=-1SU;BYMONTH=10
TZNAME:CET
TZOFFSETFROM:+0200
TZOFFSETTO:+0100
END:STANDARD
BEGIN:DAYLIGHT
DTSTART:20000326T030000
RRULE:FREQ=YEARLY;BYDAY=-1SU;BYMONTH=3
TZNAME:CEST
TZOFFSETFROM:+0100
TZOFFSETTO:+0200
END:DAYLIGHT
END:VTIMEZONE
BEGIN:VEVENT
UID:pretix-uibk-lml-2025-0@pretix.eu
DTSTART;TZID=Europe/Berlin:20250627T160000
DTEND;TZID=Europe/Berlin:20250627T183000
DESCRIPTION:Tickets: https://pretix.eu/uibk/lml-2025/\nOrganizer: Universit
 ät Innsbruck
DTSTAMP:20260424T003309Z
LOCATION:Audimax\, Àgnes-Heller-Haus\, Innrain 52a\, Innsbruck
SUMMARY:Lise-Meitner-Lecture: Nobel laureate Prof. Dr. Anne L’Huillier
END:VEVENT
END:VCALENDAR
