BEGIN:VCALENDAR
VERSION:2.0
PRODID:-//pretix//pretix.eu//
BEGIN:VTIMEZONE
TZID:Europe/Vienna
BEGIN:STANDARD
DTSTART:20001029T040000
RRULE:FREQ=YEARLY;BYDAY=-1SU;BYMONTH=10
TZNAME:CET
TZOFFSETFROM:+0200
TZOFFSETTO:+0100
END:STANDARD
BEGIN:DAYLIGHT
DTSTART:20000326T030000
RRULE:FREQ=YEARLY;BYDAY=-1SU;BYMONTH=3
TZNAME:CEST
TZOFFSETFROM:+0100
TZOFFSETTO:+0200
END:DAYLIGHT
END:VTIMEZONE
BEGIN:VEVENT
UID:pretix-uibk-physik-nobel-0@pretix.eu
DTSTART;TZID=Europe/Vienna:20240111T180000
DTEND;TZID=Europe/Vienna:20240111T193000
DESCRIPTION:Tickets: https://pretix.eu/uibk/physik-nobel/\nEinlass: 11.01.2
 024 17:00\nVeranstalter: Universität Innsbruck
DTSTAMP:20260420T044442Z
LOCATION:Audimax\, Ágnes-Heller-Haus\, Innrain 52a\, 6020 Innsbruck
SUMMARY:Die Wunderwelt der Quanten. Öffentlicher Vortrag von Nobelpreistr
 äger Anton Zeilinger
END:VEVENT
END:VCALENDAR
