BEGIN:VCALENDAR
VERSION:2.0
PRODID:-//pretix//pretix.eu//
BEGIN:VTIMEZONE
TZID:Europe/Berlin
BEGIN:STANDARD
DTSTART:20001029T040000
RRULE:FREQ=YEARLY;BYDAY=-1SU;BYMONTH=10
TZNAME:CET
TZOFFSETFROM:+0200
TZOFFSETTO:+0100
END:STANDARD
BEGIN:DAYLIGHT
DTSTART:20000326T030000
RRULE:FREQ=YEARLY;BYDAY=-1SU;BYMONTH=3
TZNAME:CEST
TZOFFSETFROM:+0100
TZOFFSETTO:+0200
END:DAYLIGHT
END:VTIMEZONE
BEGIN:VEVENT
UID:pretix-unsichtbar-workshops-4752888@pretix.eu
DTSTART;TZID=Europe/Berlin:20260228T150000
DTEND;TZID=Europe/Berlin:20260228T180000
DESCRIPTION:Tickets: https://pretix.eu/unsichtbar/workshops/4752888/\nOrgan
 izer: unSICHTBAR
DTSTAMP:20260420T004252Z
LOCATION:TU Darmstadt city\, room 209\, S1|03 Altes Hauptgebäude\, Hochsch
 ulstraße 1\, 64289 Darmstadt
SUMMARY:parade of the invisible
END:VEVENT
END:VCALENDAR
