BEGIN:VCALENDAR
VERSION:2.0
PRODID:-//pretix//pretix.eu//
BEGIN:VTIMEZONE
TZID:Europe/Berlin
BEGIN:STANDARD
DTSTART:20001029T040000
RRULE:FREQ=YEARLY;BYDAY=-1SU;BYMONTH=10
TZNAME:CET
TZOFFSETFROM:+0200
TZOFFSETTO:+0100
END:STANDARD
BEGIN:DAYLIGHT
DTSTART:20000326T030000
RRULE:FREQ=YEARLY;BYDAY=-1SU;BYMONTH=3
TZNAME:CEST
TZOFFSETFROM:+0100
TZOFFSETTO:+0200
END:DAYLIGHT
END:VTIMEZONE
BEGIN:VEVENT
UID:pretix-upj-klima-barcamp-0@pretix.eu
DTSTART;TZID=Europe/Berlin:20250916T110000
DTEND;TZID=Europe/Berlin:20250916T163000
DESCRIPTION:Tickets: https://pretix.eu/upj/klima-barcamp/\nVeranstalter: UP
 J
DTSTAMP:20260420T213916Z
LOCATION:Hochschule für nachhaltige Entwicklung Eberswalde (HNEE)\, Schick
 lerstraße 5\, 16225 Eberswalde
SUMMARY:Jugend\, Klima\, Wirtschaft – Barcamp für eine nachhaltige Zukunft
END:VEVENT
END:VCALENDAR
