BEGIN:VCALENDAR
VERSION:2.0
PRODID:-//pretix//pretix.eu//
BEGIN:VTIMEZONE
TZID:Europe/Berlin
BEGIN:STANDARD
DTSTART:20001029T040000
RRULE:FREQ=YEARLY;BYDAY=-1SU;BYMONTH=10
TZNAME:CET
TZOFFSETFROM:+0200
TZOFFSETTO:+0100
END:STANDARD
BEGIN:DAYLIGHT
DTSTART:20000326T030000
RRULE:FREQ=YEARLY;BYDAY=-1SU;BYMONTH=3
TZNAME:CEST
TZOFFSETFROM:+0100
TZOFFSETTO:+0200
END:DAYLIGHT
END:VTIMEZONE
BEGIN:VEVENT
UID:pretix-upj-klimabarcamp2026-0@pretix.eu
DTSTART;TZID=Europe/Berlin:20261006T110000
DTEND;TZID=Europe/Berlin:20261006T163000
DESCRIPTION:Tickets: https://pretix.eu/upj/klimabarcamp2026/\nVeranstalter:
  UPJ
DTSTAMP:20260420T173901Z
LOCATION:Haus der Offiziere (HdO) Jugendkulturfabrik\, Magdeburger Straße 
 15\, 14770 Brandenburg an der Havel
SUMMARY:Jugend\, Klima\, Wirtschaft – Barcamp für eine nachhaltige Zukunft
END:VEVENT
END:VCALENDAR
