BEGIN:VCALENDAR
VERSION:2.0
PRODID:-//pretix//pretix.eu//
BEGIN:VTIMEZONE
TZID:Europe/Berlin
BEGIN:STANDARD
DTSTART:20001029T040000
RRULE:FREQ=YEARLY;BYDAY=-1SU;BYMONTH=10
TZNAME:CET
TZOFFSETFROM:+0200
TZOFFSETTO:+0100
END:STANDARD
BEGIN:DAYLIGHT
DTSTART:20000326T030000
RRULE:FREQ=YEARLY;BYDAY=-1SU;BYMONTH=3
TZNAME:CEST
TZOFFSETFROM:+0100
TZOFFSETTO:+0200
END:DAYLIGHT
END:VTIMEZONE
BEGIN:VEVENT
UID:pretix-upj-stendal2023-0@pretix.eu
DTSTART;TZID=Europe/Berlin:20230914T103000
DTEND;TZID=Europe/Berlin:20230914T163000
DESCRIPTION:Tickets: https://pretix.eu/upj/stendal2023/\nVeranstalter: UPJ
DTSTAMP:20260420T203048Z
LOCATION:Freiwilligen-Agentur Altmark e.V.\, „Kleine Markthalle“\, Hall
 straße 49\, 39576 Hansestadt Stendal
SUMMARY:Regionaler Impulsworkshop „Neue Verbindungen schaffen: Kooperatio
 nen von Unternehmen und Gemeinnützigen fördern“
END:VEVENT
END:VCALENDAR
