BEGIN:VCALENDAR
VERSION:2.0
PRODID:-//pretix//pretix.eu//
BEGIN:VTIMEZONE
TZID:Europe/Berlin
BEGIN:STANDARD
DTSTART:20001029T040000
RRULE:FREQ=YEARLY;BYDAY=-1SU;BYMONTH=10
TZNAME:CET
TZOFFSETFROM:+0200
TZOFFSETTO:+0100
END:STANDARD
BEGIN:DAYLIGHT
DTSTART:20000326T030000
RRULE:FREQ=YEARLY;BYDAY=-1SU;BYMONTH=3
TZNAME:CEST
TZOFFSETFROM:+0100
TZOFFSETTO:+0200
END:DAYLIGHT
END:VTIMEZONE
BEGIN:VEVENT
UID:pretix-usk-gruendertag25-0@pretix.eu
DTSTART;TZID=Europe/Berlin:20250912T093000
DTEND;TZID=Europe/Berlin:20250912T160000
DESCRIPTION:Tickets: https://pretix.eu/usk/gruendertag25/\nEinlass: 12.09.2
 025 09:00\nVeranstalter: UnternehmerSTART Köln e. V.
DTSTAMP:20260424T223936Z
LOCATION:Rheinpark-Metropole\, Charles-de-Gaulle-Platz 1\, 50679 Köln
SUMMARY:Gründertag Köln 2025
END:VEVENT
END:VCALENDAR
