BEGIN:VCALENDAR
VERSION:2.0
PRODID:-//pretix//pretix.eu//
BEGIN:VTIMEZONE
TZID:Europe/Berlin
BEGIN:STANDARD
DTSTART:20001029T040000
RRULE:FREQ=YEARLY;BYDAY=-1SU;BYMONTH=10
TZNAME:CET
TZOFFSETFROM:+0200
TZOFFSETTO:+0100
END:STANDARD
BEGIN:DAYLIGHT
DTSTART:20000326T030000
RRULE:FREQ=YEARLY;BYDAY=-1SU;BYMONTH=3
TZNAME:CEST
TZOFFSETFROM:+0100
TZOFFSETTO:+0200
END:DAYLIGHT
END:VTIMEZONE
BEGIN:VEVENT
UID:pretix-vbh-konzertant.de-vbh-k.2526-4590542@pretix.eu
DTSTART;TZID=Europe/Berlin:20260503T173000
DTEND;TZID=Europe/Berlin:20260503T183000
DESCRIPTION:Tickets: https://pretix.eu/vbh-konzertant.de/vbh-k.2526/4590542
 /\nVeranstalter: Von-Busch-Hof Konzertant e.V.
DTSTAMP:20260422T203901Z
LOCATION:Von-Busch-Hof\, Freinsheim
SUMMARY:Orgel und Trompete
END:VEVENT
END:VCALENDAR
